BEGIN:VCALENDAR
VERSION:2.0
PRODID:-//Accelerate Kootenays - ECPv6.11.2//NONSGML v1.0//EN
CALSCALE:GREGORIAN
METHOD:PUBLISH
X-WR-CALNAME:Accelerate Kootenays
X-ORIGINAL-URL:https://acceleratekootenays.ca
X-WR-CALDESC:Events for Accelerate Kootenays
REFRESH-INTERVAL;VALUE=DURATION:PT1H
X-Robots-Tag:noindex
X-PUBLISHED-TTL:PT1H
BEGIN:VTIMEZONE
TZID:UTC
BEGIN:STANDARD
TZOFFSETFROM:+0000
TZOFFSETTO:+0000
TZNAME:UTC
DTSTART:20180101T000000
END:STANDARD
END:VTIMEZONE
BEGIN:VTIMEZONE
TZID:America/Edmonton
BEGIN:DAYLIGHT
TZOFFSETFROM:-0700
TZOFFSETTO:-0600
TZNAME:MDT
DTSTART:20180311T090000
END:DAYLIGHT
BEGIN:STANDARD
TZOFFSETFROM:-0600
TZOFFSETTO:-0700
TZNAME:MST
DTSTART:20181104T080000
END:STANDARD
END:VTIMEZONE
BEGIN:VTIMEZONE
TZID:America/Vancouver
BEGIN:DAYLIGHT
TZOFFSETFROM:-0800
TZOFFSETTO:-0700
TZNAME:PDT
DTSTART:20180311T100000
END:DAYLIGHT
BEGIN:STANDARD
TZOFFSETFROM:-0700
TZOFFSETTO:-0800
TZNAME:PST
DTSTART:20181104T090000
END:STANDARD
END:VTIMEZONE
BEGIN:VEVENT
DTSTART;TZID=UTC:20180728T103000
DTEND;TZID=UTC:20180728T190000
DTSTAMP:20260420T173914
CREATED:20180705T172459Z
LAST-MODIFIED:20180705T172459Z
UID:704-1532773800-1532804400@acceleratekootenays.ca
SUMMARY:Castlegar Kootenay Festival
DESCRIPTION:
URL:https://acceleratekootenays.ca/event/castlegar-kootenay-festival/
LOCATION:Millenium Park\, 100 5th Street\, Castlegar
END:VEVENT
BEGIN:VEVENT
DTSTART;TZID=UTC:20180725T093000
DTEND;TZID=UTC:20180725T150000
DTSTAMP:20260420T173914
CREATED:20180705T172126Z
LAST-MODIFIED:20180705T172126Z
UID:701-1532511000-1532530800@acceleratekootenays.ca
SUMMARY:Nelson Farmers Market
DESCRIPTION:
URL:https://acceleratekootenays.ca/event/nelson-farmers-market/
LOCATION:Nelson\, Nelson
END:VEVENT
BEGIN:VEVENT
DTSTART;TZID=America/Edmonton:20180721T080000
DTEND;TZID=America/Edmonton:20180721T130000
DTSTAMP:20260420T173914
CREATED:20180705T160123Z
LAST-MODIFIED:20180705T160123Z
UID:695-1532160000-1532178000@acceleratekootenays.ca
SUMMARY:Revelstoke Farmers Market
DESCRIPTION:
URL:https://acceleratekootenays.ca/event/revelstoke-farmers-market/
LOCATION:Revelstoke\, Grizzly Plaza\, Revelstoke\, Canada
END:VEVENT
BEGIN:VEVENT
DTSTART;TZID=America/Vancouver:20180715T080000
DTEND;TZID=America/Vancouver:20180715T170000
DTSTAMP:20260420T173914
CREATED:20180704T153302Z
LAST-MODIFIED:20180705T171711Z
UID:606-1531641600-1531674000@acceleratekootenays.ca
SUMMARY:Christina Lake Market
DESCRIPTION:
URL:https://acceleratekootenays.ca/event/christina-lake-market-tbc/
LOCATION:Christina Lake\, Christina Lake\, British Columbia\, Canada
END:VEVENT
BEGIN:VEVENT
DTSTART;TZID=America/Vancouver:20180714T090000
DTEND;TZID=America/Vancouver:20180714T170000
DTSTAMP:20260420T173914
CREATED:20180704T152757Z
LAST-MODIFIED:20180704T152757Z
UID:603-1531558800-1531587600@acceleratekootenays.ca
SUMMARY:Greenwood Founders Day
DESCRIPTION:
URL:https://acceleratekootenays.ca/event/greenwood-founders-day/
LOCATION:Greenwood\, BC\, Greenwood\, British columbia\, Canada
END:VEVENT
BEGIN:VEVENT
DTSTART;TZID=America/Edmonton:20180707T090000
DTEND;TZID=America/Edmonton:20180707T130000
DTSTAMP:20260420T173914
CREATED:20180703T213039Z
LAST-MODIFIED:20180704T155502Z
UID:599-1530954000-1530968400@acceleratekootenays.ca
SUMMARY:Invermere Market
DESCRIPTION:Test Drives & Information Booth featuring a Mitsubishi Outlander PHEV and a Chevrolet Bolt.
URL:https://acceleratekootenays.ca/event/invermere-market/
LOCATION:Invermere Farmers & Artists Market\, 39\,28 6th Ave\,\, Invermere\, British Columbia\, V0A 1M0\, Canada
END:VEVENT
BEGIN:VEVENT
DTSTART;TZID=America/Edmonton:20180706T160000
DTEND;TZID=America/Edmonton:20180706T210000
DTSTAMP:20260420T173914
CREATED:20180703T212718Z
LAST-MODIFIED:20180703T212718Z
UID:593-1530892800-1530910800@acceleratekootenays.ca
SUMMARY:Radium Market
DESCRIPTION:Test Drives & Information Booth featuring a Mitsubishi Outlander PHEV and a Chevrolet Bolt.
URL:https://acceleratekootenays.ca/event/radium-market/
LOCATION:Market & Music on Main\, Main St.\, Radium\, British Columbia\, Canada
END:VEVENT
END:VCALENDAR