BEGIN:VCALENDAR
VERSION:2.0
PRODID:-//Accelerate Kootenays - ECPv6.11.2//NONSGML v1.0//EN
CALSCALE:GREGORIAN
METHOD:PUBLISH
X-ORIGINAL-URL:https://acceleratekootenays.ca
X-WR-CALDESC:Events for Accelerate Kootenays
REFRESH-INTERVAL;VALUE=DURATION:PT1H
X-Robots-Tag:noindex
X-PUBLISHED-TTL:PT1H
BEGIN:VTIMEZONE
TZID:UTC
BEGIN:STANDARD
TZOFFSETFROM:+0000
TZOFFSETTO:+0000
TZNAME:UTC
DTSTART:20180101T000000
END:STANDARD
END:VTIMEZONE
BEGIN:VTIMEZONE
TZID:America/Edmonton
BEGIN:DAYLIGHT
TZOFFSETFROM:-0700
TZOFFSETTO:-0600
TZNAME:MDT
DTSTART:20180311T090000
END:DAYLIGHT
BEGIN:STANDARD
TZOFFSETFROM:-0600
TZOFFSETTO:-0700
TZNAME:MST
DTSTART:20181104T080000
END:STANDARD
END:VTIMEZONE
BEGIN:VTIMEZONE
TZID:America/Vancouver
BEGIN:DAYLIGHT
TZOFFSETFROM:-0800
TZOFFSETTO:-0700
TZNAME:PDT
DTSTART:20180311T100000
END:DAYLIGHT
BEGIN:STANDARD
TZOFFSETFROM:-0700
TZOFFSETTO:-0800
TZNAME:PST
DTSTART:20181104T090000
END:STANDARD
END:VTIMEZONE
BEGIN:VEVENT
DTSTART;TZID=UTC:20190801T121500
DTEND;TZID=UTC:20190801T140000
DTSTAMP:20260420T143756
CREATED:20190729T184400Z
LAST-MODIFIED:20190729T184400Z
UID:1056-1564661700-1564668000@acceleratekootenays.ca
SUMMARY:Nelson Test Drive Event
DESCRIPTION:We’ll be in Nelson this Thursday\, August 1st talking about electric vehicles and their infrastructure in the Kootenays\, as well as offering test drives! If you’re interested in a no-pressure opportunity to drive an electric car\, come to the Nelson City Hall at 310 Ward St. between 12:15-2pm where you can find us and our electric vehicle! More information available at: https://www.facebook.com/events/662286640864560/
URL:https://acceleratekootenays.ca/event/nelson-test-drive-event/
CATEGORIES:Central Kootenay,test drive
ATTACH;FMTTYPE=image/jpeg:https://acceleratekootenays.ca/wp-content/uploads/2019/07/Invermere-Market-July-7th-2018.jpg
END:VEVENT
BEGIN:VEVENT
DTSTART;TZID=UTC:20190727T080000
DTEND;TZID=UTC:20190727T170000
DTSTAMP:20260420T143756
CREATED:20190704T210636Z
LAST-MODIFIED:20190725T154438Z
UID:1030-1564214400-1564246800@acceleratekootenays.ca
SUMMARY:Kimberley Motor Mountain Nationals - July 27\, 2019
DESCRIPTION:At the end of July\,  Kimberley is hosting their annual  car show. Among all the classic cars will be our electric vehicle and information booth: come stop by to discuss transportation innovation! We’ll also be offering test drives; an opportunity to try an EV in a pressure-free environment\, where our staff are eager to answer all of your questions about EVs such as range\, cost\, how to charge\, maintenance\, and relevant government incentive programs (note: BC is one of the best provinces to live in if you want to buy an EV!). \nMore info here: https://www.facebook.com/events/366327524074962/
URL:https://acceleratekootenays.ca/event/kimberley-motor-mountain-nationals-july-26-2019/
CATEGORIES:East Kootenay,info booth
ATTACH;FMTTYPE=image/jpeg:https://acceleratekootenays.ca/wp-content/uploads/2018/07/sparwood-launch.jpg
END:VEVENT
BEGIN:VEVENT
DTSTART;TZID=UTC:20190721T080000
DTEND;TZID=UTC:20190721T170000
DTSTAMP:20260420T143756
CREATED:20190621T180307Z
LAST-MODIFIED:20190621T180307Z
UID:982-1563696000-1563728400@acceleratekootenays.ca
SUMMARY:Kimberley JulyFest - July 21\, 2019
DESCRIPTION:JulyFest is locally known as the “best of the fests\,” and you definitely do not want to miss out on the Canadian Bocce Championship\, the extreme downhill longboard race\, or seeing our mobile electric vehicle showcase. All this and more are waiting for you in Kimberley!
URL:https://acceleratekootenays.ca/event/kimberley-julyfest-july-21-2019/
CATEGORIES:East Kootenay,info booth
ATTACH;FMTTYPE=image/jpeg:https://acceleratekootenays.ca/wp-content/uploads/2019/06/Fernie-Wapiti-booth-talking.jpg
END:VEVENT
BEGIN:VEVENT
DTSTART;TZID=UTC:20190720T090000
DTEND;TZID=UTC:20190720T130000
DTSTAMP:20260420T143756
CREATED:20190621T173529Z
LAST-MODIFIED:20190621T173529Z
UID:980-1563613200-1563627600@acceleratekootenays.ca
SUMMARY:Invermere Valley Appreciation Day - July 20\, 2019
DESCRIPTION:This festival has been a summer highlight in the Columbia Valley for more than 30 years\, giving locals and visitors a chance to celebrate the unique beauty of this valley and all it offers. That’s including of course the first community-driven EV charging network that connects the Kootenays; come see our booth and fully-electric vehicle to satisfy your curiosity and questions!
URL:https://acceleratekootenays.ca/event/invermere-valley-appreciation-day-july-20-2019/
CATEGORIES:East Kootenay,info booth
ATTACH;FMTTYPE=image/jpeg:https://acceleratekootenays.ca/wp-content/uploads/2018/07/2-charging-port.jpg
END:VEVENT
BEGIN:VEVENT
DTSTART;TZID=UTC:20190719T160000
DTEND;TZID=UTC:20190719T210000
DTSTAMP:20260420T143756
CREATED:20190621T170157Z
LAST-MODIFIED:20190621T170157Z
UID:978-1563552000-1563570000@acceleratekootenays.ca
SUMMARY:Radium's Music and Market on Main - July 19\, 2019
DESCRIPTION:Every Friday summer evening in Radium is a joyous event where we sing\, dance\, eat and shop the evening away with Market and Music on Main. Catch us there with an info booth and our mobile EV showcase. Hope to see you!
URL:https://acceleratekootenays.ca/event/radiums-music-and-market-on-main-july-19-2019/
CATEGORIES:East Kootenay,info booth
ATTACH;FMTTYPE=image/jpeg:https://acceleratekootenays.ca/wp-content/uploads/2018/07/Creston-Market-2018.jpg
END:VEVENT
BEGIN:VEVENT
DTSTART;TZID=UTC:20190713T080000
DTEND;TZID=UTC:20190713T140000
DTSTAMP:20260420T143756
CREATED:20190621T165224Z
LAST-MODIFIED:20190621T165224Z
UID:976-1563004800-1563026400@acceleratekootenays.ca
SUMMARY:Christina Lake Homecoming Summerfest - July 13\, 2019
DESCRIPTION:Come home to Christina Lake for their 10th annual summer celebration! The local market runs 8-2pm on Saturday the 13th\, where you can find our mobile EV showcase\, and our smiling faces. See you there!
URL:https://acceleratekootenays.ca/event/christina-lake-homecoming-summerfest-july-13-2019/
CATEGORIES:info booth,Kootenay Boundary
ATTACH;FMTTYPE=image/jpeg:https://acceleratekootenays.ca/wp-content/uploads/2018/07/sparwood-launch.jpg
END:VEVENT
BEGIN:VEVENT
DTSTART;TZID=UTC:20190706T100000
DTEND;TZID=UTC:20190706T150000
DTSTAMP:20260420T143756
CREATED:20190621T164052Z
LAST-MODIFIED:20190621T165515Z
UID:974-1562407200-1562425200@acceleratekootenays.ca
SUMMARY:Balfour Daze - July 6\, 2019
DESCRIPTION:Live music\, pancake breakfast\, local entertainers all await you in serene Balfour for their annual celebration. We’ll be there to showcase our fully electric vehicle and answer all your questions! Hope to see you there!
URL:https://acceleratekootenays.ca/event/balfour-daze-july-6-2019/
CATEGORIES:Central Kootenay,info booth
ATTACH;FMTTYPE=image/jpeg:https://acceleratekootenays.ca/wp-content/uploads/2018/07/Creston-Market-2018-2.jpg
END:VEVENT
BEGIN:VEVENT
DTSTART;TZID=UTC:20190705T160000
DTEND;TZID=UTC:20190705T190000
DTSTAMP:20260420T143756
CREATED:20190621T162401Z
LAST-MODIFIED:20190621T165327Z
UID:972-1562342400-1562353200@acceleratekootenays.ca
SUMMARY:Sparwood Farmers Market - July 5\, 2019
DESCRIPTION:There is something for everyone at the Sparwood Market: live music\, fresh produce\, local goods\, a big green truck\, and from 4-7pm on the 5th\,  our fully electric vehicle. Come see how to use a charger\, and have your questions answered!
URL:https://acceleratekootenays.ca/event/sparwood-farmers-market-july-5-2019/
CATEGORIES:East Kootenay,info booth
ATTACH;FMTTYPE=image/jpeg:https://acceleratekootenays.ca/wp-content/uploads/2018/07/sparwood-launch.jpg
END:VEVENT
BEGIN:VEVENT
DTSTART;TZID=UTC:20190629T123000
DTEND;TZID=UTC:20190629T173000
DTSTAMP:20260420T143756
CREATED:20190621T155204Z
LAST-MODIFIED:20190621T155241Z
UID:969-1561811400-1561829400@acceleratekootenays.ca
SUMMARY:Elkford Wildcat Days - June 29\, 2019
DESCRIPTION:Come out to Elkford’s annual Wildcat Days! We’ll be there with our electric vehicle 12:30-5:30pm Saturday June 29th. Stop by to ask all your EV-related questions\, or just to see what the future of travel can be. See you there!
URL:https://acceleratekootenays.ca/event/elkford-wildcat-days-june-29-2019/
CATEGORIES:East Kootenay,info booth
ATTACH;FMTTYPE=image/jpeg:https://acceleratekootenays.ca/wp-content/uploads/2018/07/Elkford-Wildcat-Days-2018.jpg
END:VEVENT
BEGIN:VEVENT
DTSTART;TZID=UTC:20190623T090000
DTEND;TZID=UTC:20190623T140000
DTSTAMP:20260420T143756
CREATED:20190620T164756Z
LAST-MODIFIED:20190621T164153Z
UID:907-1561280400-1561298400@acceleratekootenays.ca
SUMMARY:Fernie Mountain Market - June 23
DESCRIPTION:Join us the Fernie Alpine Resort Plaza with vendors from across the region – come for the local produce and art\, stay for an EV chat! We will have the Chevrolet Bolt with us and lots of information. Sunday June 23rd from 10am-2pm\nSee you there!
URL:https://acceleratekootenays.ca/event/fernie-mountain-market-june-23/
CATEGORIES:East Kootenay,info booth
ATTACH;FMTTYPE=image/jpeg:https://acceleratekootenays.ca/wp-content/uploads/2019/06/Bolt-Ski-Resort.jpg
END:VEVENT
BEGIN:VEVENT
DTSTART;TZID=UTC:20181029T080000
DTEND;TZID=UTC:20181029T130000
DTSTAMP:20260420T143756
CREATED:20181025T184301Z
LAST-MODIFIED:20181025T184950Z
UID:793-1540800000-1540818000@acceleratekootenays.ca
SUMMARY:Chevy Bolt Test Drives in Golden
DESCRIPTION:If you want to test drive a Chevy Bolt EV and learn more about electric cars\, charging infrastructure\, and the Accelerate Kootenays network come to the charging stations in Golden from 8am – 1pm where we will be offering test drives. Follow this link to sign-up: https://docs.google.com/spreadsheets/d/1Ujb0UWA0TxUXtzKsZeuaXBKndLIwzkJRV_RA8t8Bz6Q/edit#gid=0
URL:https://acceleratekootenays.ca/event/chevy-bolt-test-drives-in-fernie/
LOCATION:Golden Charging Stations\, 810 9 Ave S\, Golden\, BC\, Canada
END:VEVENT
BEGIN:VEVENT
DTSTART;TZID=UTC:20181028T100000
DTEND;TZID=UTC:20181028T140000
DTSTAMP:20260420T143756
CREATED:20181018T200335Z
LAST-MODIFIED:20181019T161210Z
UID:776-1540720800-1540735200@acceleratekootenays.ca
SUMMARY:Pop-up Test Drive Event with Wildsight Golden
DESCRIPTION:Wildsight staff and members will have the opportunity to sign-up to test drive our Chevrolet Bolt BEV and learn more about the accelerate Kootenays network and EVs! If  you would like to sign-up for a test drive\, follow this link: https://docs.google.com/spreadsheets/d/1rhR1eay5zU5aaN4746m80PEU1WYVzExPWUGzcYoXUX8/edit#gid=0
URL:https://acceleratekootenays.ca/event/pop-up-test-drive-event-with-wildsight-golden/
LOCATION:Memorial Park Parking Lot\, 810 9 Ave S\, Golden\, BC\, Canada
END:VEVENT
BEGIN:VEVENT
DTSTART;TZID=UTC:20181027T100000
DTEND;TZID=UTC:20181027T140000
DTSTAMP:20260420T143756
CREATED:20181018T200116Z
LAST-MODIFIED:20181018T202155Z
UID:773-1540634400-1540648800@acceleratekootenays.ca
SUMMARY:Pop-up Test Drive Event with Wildsight Invermere
DESCRIPTION:Wildsight staff and members will have the opportunity to sign-up to test drive our Chevrolet Bolt BEV\, and learn more about EVs\, charging infrastructure\, and the accelerate Kootenays network! \n 
URL:https://acceleratekootenays.ca/event/pop-up-test-drive-event-with-wildsight-invermere/
LOCATION:Lakeview Parking Lot\, 528 6th Ave\, Invermere\, BC\, Canada
END:VEVENT
BEGIN:VEVENT
DTSTART;TZID=UTC:20181026T090000
DTEND;TZID=UTC:20181026T140000
DTSTAMP:20260420T143756
CREATED:20181018T201240Z
LAST-MODIFIED:20181019T162020Z
UID:778-1540544400-1540562400@acceleratekootenays.ca
SUMMARY:Pop-up EV Test Drive at Groundfloor Coworking Space
DESCRIPTION:Come to the Groundswell Co-working space on Friday\, October 26th for the opportunity to test drive a Chevrolet Bolt BEV\, and to learn more about EVs\, charging infrastructure\, and the accelerate Kootenays network! If you would like to sign up for a test drive\, please follow this link: https://docs.google.com/spreadsheets/d/1WmZe7RwcJJIh3HNbgVJmVGQZ5W_W9RtlsNBeoukv0ZA/edit#gid=0
URL:https://acceleratekootenays.ca/event/pop-up-ev-test-drive-at-groundfloor-coworking-space/
LOCATION:Groundfloor Coworking Space\, 131 7 Ave S\, Cranbrook\, BC\, Canada
END:VEVENT
BEGIN:VEVENT
DTSTART;TZID=UTC:20180908T110000
DTEND;TZID=UTC:20180908T170000
DTSTAMP:20260420T143756
CREATED:20180705T175000Z
LAST-MODIFIED:20180705T175000Z
UID:717-1536404400-1536426000@acceleratekootenays.ca
SUMMARY:Rossland Fall Fair
DESCRIPTION:
URL:https://acceleratekootenays.ca/event/rossland-fall-fair/
LOCATION:Rossland Arena\, Rossland
END:VEVENT
BEGIN:VEVENT
DTSTART;TZID=UTC:20180825T090000
DTEND;TZID=UTC:20180825T130000
DTSTAMP:20260420T143756
CREATED:20180809T203328Z
LAST-MODIFIED:20180809T204439Z
UID:754-1535187600-1535202000@acceleratekootenays.ca
SUMMARY:Cranbrook Farmers Market
DESCRIPTION:
URL:https://acceleratekootenays.ca/event/grand-forks-park-in-the-park/
LOCATION:Rotary Park\, Cranbrook\, BC\, Canada
END:VEVENT
BEGIN:VEVENT
DTSTART;TZID=UTC:20180823T170000
DTEND;TZID=UTC:20180823T193000
DTSTAMP:20260420T143756
CREATED:20180809T204630Z
LAST-MODIFIED:20180809T204630Z
UID:763-1535043600-1535052600@acceleratekootenays.ca
SUMMARY:Kimberley Farmers Market
DESCRIPTION:
URL:https://acceleratekootenays.ca/event/kimberley-farmers-market/
LOCATION:Howard Street\, Kimberley\, Canada
END:VEVENT
BEGIN:VEVENT
DTSTART;TZID=UTC:20180812T110000
DTEND;TZID=UTC:20180812T160000
DTSTAMP:20260420T143756
CREATED:20180705T174343Z
LAST-MODIFIED:20180705T174343Z
UID:713-1534071600-1534089600@acceleratekootenays.ca
SUMMARY:Show n' Shine Fernie Car Show
DESCRIPTION:
URL:https://acceleratekootenays.ca/event/show-n-shine-fernie-car-show/
LOCATION:Downtown Fernie\, Fernie
END:VEVENT
BEGIN:VEVENT
DTSTART;TZID=UTC:20180811T093000
DTEND;TZID=UTC:20180811T170000
DTSTAMP:20260420T143756
CREATED:20180705T173715Z
LAST-MODIFIED:20180705T174546Z
UID:711-1533979800-1534006800@acceleratekootenays.ca
SUMMARY:Wapiti Music Festival
DESCRIPTION:
URL:https://acceleratekootenays.ca/event/wapiti-music-festival/
LOCATION:Annex Park\, Fernie
END:VEVENT
BEGIN:VEVENT
DTSTART;TZID=UTC:20180803T110000
DTEND;TZID=UTC:20180805T170000
DTSTAMP:20260420T143756
CREATED:20180705T173127Z
LAST-MODIFIED:20180705T173127Z
UID:707-1533294000-1533488400@acceleratekootenays.ca
SUMMARY:Kaslo Jazz Fest
DESCRIPTION:
URL:https://acceleratekootenays.ca/event/kaslo-jazz-fest/
LOCATION:Kaslo Bay Park\, Kaslo
END:VEVENT
BEGIN:VEVENT
DTSTART;TZID=UTC:20180728T103000
DTEND;TZID=UTC:20180728T190000
DTSTAMP:20260420T143756
CREATED:20180705T172459Z
LAST-MODIFIED:20180705T172459Z
UID:704-1532773800-1532804400@acceleratekootenays.ca
SUMMARY:Castlegar Kootenay Festival
DESCRIPTION:
URL:https://acceleratekootenays.ca/event/castlegar-kootenay-festival/
LOCATION:Millenium Park\, 100 5th Street\, Castlegar
END:VEVENT
BEGIN:VEVENT
DTSTART;TZID=UTC:20180725T093000
DTEND;TZID=UTC:20180725T150000
DTSTAMP:20260420T143756
CREATED:20180705T172126Z
LAST-MODIFIED:20180705T172126Z
UID:701-1532511000-1532530800@acceleratekootenays.ca
SUMMARY:Nelson Farmers Market
DESCRIPTION:
URL:https://acceleratekootenays.ca/event/nelson-farmers-market/
LOCATION:Nelson\, Nelson
END:VEVENT
BEGIN:VEVENT
DTSTART;TZID=America/Edmonton:20180721T080000
DTEND;TZID=America/Edmonton:20180721T130000
DTSTAMP:20260420T143756
CREATED:20180705T160123Z
LAST-MODIFIED:20180705T160123Z
UID:695-1532160000-1532178000@acceleratekootenays.ca
SUMMARY:Revelstoke Farmers Market
DESCRIPTION:
URL:https://acceleratekootenays.ca/event/revelstoke-farmers-market/
LOCATION:Revelstoke\, Grizzly Plaza\, Revelstoke\, Canada
END:VEVENT
BEGIN:VEVENT
DTSTART;TZID=America/Vancouver:20180715T080000
DTEND;TZID=America/Vancouver:20180715T170000
DTSTAMP:20260420T143756
CREATED:20180704T153302Z
LAST-MODIFIED:20180705T171711Z
UID:606-1531641600-1531674000@acceleratekootenays.ca
SUMMARY:Christina Lake Market
DESCRIPTION:
URL:https://acceleratekootenays.ca/event/christina-lake-market-tbc/
LOCATION:Christina Lake\, Christina Lake\, British Columbia\, Canada
END:VEVENT
BEGIN:VEVENT
DTSTART;TZID=America/Vancouver:20180714T090000
DTEND;TZID=America/Vancouver:20180714T170000
DTSTAMP:20260420T143756
CREATED:20180704T152757Z
LAST-MODIFIED:20180704T152757Z
UID:603-1531558800-1531587600@acceleratekootenays.ca
SUMMARY:Greenwood Founders Day
DESCRIPTION:
URL:https://acceleratekootenays.ca/event/greenwood-founders-day/
LOCATION:Greenwood\, BC\, Greenwood\, British columbia\, Canada
END:VEVENT
BEGIN:VEVENT
DTSTART;TZID=America/Edmonton:20180707T090000
DTEND;TZID=America/Edmonton:20180707T130000
DTSTAMP:20260420T143756
CREATED:20180703T213039Z
LAST-MODIFIED:20180704T155502Z
UID:599-1530954000-1530968400@acceleratekootenays.ca
SUMMARY:Invermere Market
DESCRIPTION:Test Drives & Information Booth featuring a Mitsubishi Outlander PHEV and a Chevrolet Bolt.
URL:https://acceleratekootenays.ca/event/invermere-market/
LOCATION:Invermere Farmers & Artists Market\, 39\,28 6th Ave\,\, Invermere\, British Columbia\, V0A 1M0\, Canada
END:VEVENT
BEGIN:VEVENT
DTSTART;TZID=America/Edmonton:20180706T160000
DTEND;TZID=America/Edmonton:20180706T210000
DTSTAMP:20260420T143756
CREATED:20180703T212718Z
LAST-MODIFIED:20180703T212718Z
UID:593-1530892800-1530910800@acceleratekootenays.ca
SUMMARY:Radium Market
DESCRIPTION:Test Drives & Information Booth featuring a Mitsubishi Outlander PHEV and a Chevrolet Bolt.
URL:https://acceleratekootenays.ca/event/radium-market/
LOCATION:Market & Music on Main\, Main St.\, Radium\, British Columbia\, Canada
END:VEVENT
END:VCALENDAR